BEGIN:VCALENDAR
VERSION:2.0
PRODID:-//St. Thomas&#039; Preschool - ECPv6.15.18//NONSGML v1.0//EN
CALSCALE:GREGORIAN
METHOD:PUBLISH
X-WR-CALNAME:St. Thomas&#039; Preschool
X-ORIGINAL-URL:https://stthomaspreschoolpa.com
X-WR-CALDESC:Events for St. Thomas&#039; Preschool
REFRESH-INTERVAL;VALUE=DURATION:PT1H
X-Robots-Tag:noindex
X-PUBLISHED-TTL:PT1H
BEGIN:VTIMEZONE
TZID:UTC
BEGIN:STANDARD
TZOFFSETFROM:+0000
TZOFFSETTO:+0000
TZNAME:UTC
DTSTART:20190101T000000
END:STANDARD
END:VTIMEZONE
BEGIN:VEVENT
DTSTART;VALUE=DATE:20200214
DTEND;VALUE=DATE:20200218
DTSTAMP:20260423T113629
CREATED:20180727T192658Z
LAST-MODIFIED:20190809T151506Z
UID:1323-1581638400-1581983999@stthomaspreschoolpa.com
SUMMARY:President's Weekend - SCHOOL CLOSED
DESCRIPTION:School will be closed February 14th through February 17th for President’s Weekend. Have a wonderful weekend!
URL:https://stthomaspreschoolpa.com/event/presidents-weekend-school-closed-2/
CATEGORIES:School Closed
ATTACH;FMTTYPE=image/png:https://stthomaspreschoolpa.com/wp-content/uploads/2018/07/PresidentsWeekend-01.png
END:VEVENT
END:VCALENDAR